BEGIN:VCALENDAR
VERSION:2.0
PRODID:-//Defense Daily - ECPv6.15.20//NONSGML v1.0//EN
CALSCALE:GREGORIAN
METHOD:PUBLISH
X-WR-CALNAME:Defense Daily
X-ORIGINAL-URL:https://www.defensedaily.com
X-WR-CALDESC:Events for Defense Daily
REFRESH-INTERVAL;VALUE=DURATION:PT1H
X-Robots-Tag:noindex
X-PUBLISHED-TTL:PT1H
BEGIN:VTIMEZONE
TZID:America/New_York
BEGIN:DAYLIGHT
TZOFFSETFROM:-0500
TZOFFSETTO:-0400
TZNAME:EDT
DTSTART:20250309T070000
END:DAYLIGHT
BEGIN:STANDARD
TZOFFSETFROM:-0400
TZOFFSETTO:-0500
TZNAME:EST
DTSTART:20251102T060000
END:STANDARD
BEGIN:DAYLIGHT
TZOFFSETFROM:-0500
TZOFFSETTO:-0400
TZNAME:EDT
DTSTART:20260308T070000
END:DAYLIGHT
BEGIN:STANDARD
TZOFFSETFROM:-0400
TZOFFSETTO:-0500
TZNAME:EST
DTSTART:20261101T060000
END:STANDARD
BEGIN:DAYLIGHT
TZOFFSETFROM:-0500
TZOFFSETTO:-0400
TZNAME:EDT
DTSTART:20270314T070000
END:DAYLIGHT
BEGIN:STANDARD
TZOFFSETFROM:-0400
TZOFFSETTO:-0500
TZNAME:EST
DTSTART:20271107T060000
END:STANDARD
END:VTIMEZONE
BEGIN:VEVENT
DTSTART;VALUE=DATE:20260428
DTEND;VALUE=DATE:20260501
DTSTAMP:20260424T135045
CREATED:20251210T162009Z
LAST-MODIFIED:20251210T162009Z
UID:1237986-1777334400-1777593599@www.defensedaily.com
SUMMARY:Modern Day Marine
DESCRIPTION:Modern Day Marine is the largest military equipment\, systems\, services and technology exposition exclusively targeted to Marines and the Corps. The show floor hosts more than 300 exhibitors displaying the latest warfighting innovations and technology\, presentations from influential Marines and DoW personnel\, the OBJ1 Wargaming Convention\, and more.
URL:https://www.defensedaily.com/event/modern-day-marine-2/
LOCATION:Washington\, DC
END:VEVENT
END:VCALENDAR