BEGIN:VCALENDAR
VERSION:2.0
PRODID:-//Defense Daily - ECPv6.15.20//NONSGML v1.0//EN
CALSCALE:GREGORIAN
METHOD:PUBLISH
X-WR-CALNAME:Defense Daily
X-ORIGINAL-URL:https://www.defensedaily.com
X-WR-CALDESC:Events for Defense Daily
REFRESH-INTERVAL;VALUE=DURATION:PT1H
X-Robots-Tag:noindex
X-PUBLISHED-TTL:PT1H
BEGIN:VTIMEZONE
TZID:America/New_York
BEGIN:DAYLIGHT
TZOFFSETFROM:-0500
TZOFFSETTO:-0400
TZNAME:EDT
DTSTART:20250309T070000
END:DAYLIGHT
BEGIN:STANDARD
TZOFFSETFROM:-0400
TZOFFSETTO:-0500
TZNAME:EST
DTSTART:20251102T060000
END:STANDARD
BEGIN:DAYLIGHT
TZOFFSETFROM:-0500
TZOFFSETTO:-0400
TZNAME:EDT
DTSTART:20260308T070000
END:DAYLIGHT
BEGIN:STANDARD
TZOFFSETFROM:-0400
TZOFFSETTO:-0500
TZNAME:EST
DTSTART:20261101T060000
END:STANDARD
BEGIN:DAYLIGHT
TZOFFSETFROM:-0500
TZOFFSETTO:-0400
TZNAME:EDT
DTSTART:20270314T070000
END:DAYLIGHT
BEGIN:STANDARD
TZOFFSETFROM:-0400
TZOFFSETTO:-0500
TZNAME:EST
DTSTART:20271107T060000
END:STANDARD
END:VTIMEZONE
BEGIN:VEVENT
DTSTART;VALUE=DATE:20260503
DTEND;VALUE=DATE:20260507
DTSTAMP:20260419T053618
CREATED:20251210T171902Z
LAST-MODIFIED:20251210T171902Z
UID:1238010-1777766400-1778111999@www.defensedaily.com
SUMMARY:GEOINT Symposium
DESCRIPTION:Join us at the GEOINT Symposium 2026\, where we delve into the critical role of geospatial intelligence in building a secure future in Aurora\, Colorado.\n\nExplore the intersection of technology and security as we address the challenges and opportunities in today’s complex geopolitical landscape. From land to sea\, and from cyberspace to outer space\, GEOINT’s impact is felt across every dimension and domain. Engage with industry experts\, government leaders\, and innovators to discover how geospatial intelligence is shaping a safer world for tomorrow.\n\nDon’t miss this chance to deepen your understanding\, foster valuable connections\, and stay at the forefront of GEOINT’s transformative advancements. Together\, let’s harness the power of geospatial intelligence to build a more secure tomorrow.
URL:https://www.defensedaily.com/event/geoint-symposium/
LOCATION:Aurora\, CO
END:VEVENT
END:VCALENDAR