BEGIN:VCALENDAR
VERSION:2.0
PRODID:-//Defense Daily - ECPv6.15.20//NONSGML v1.0//EN
CALSCALE:GREGORIAN
METHOD:PUBLISH
X-ORIGINAL-URL:https://www.defensedaily.com
X-WR-CALDESC:Events for Defense Daily
REFRESH-INTERVAL;VALUE=DURATION:PT1H
X-Robots-Tag:noindex
X-PUBLISHED-TTL:PT1H
BEGIN:VTIMEZONE
TZID:America/New_York
BEGIN:DAYLIGHT
TZOFFSETFROM:-0500
TZOFFSETTO:-0400
TZNAME:EDT
DTSTART:20250309T070000
END:DAYLIGHT
BEGIN:STANDARD
TZOFFSETFROM:-0400
TZOFFSETTO:-0500
TZNAME:EST
DTSTART:20251102T060000
END:STANDARD
BEGIN:DAYLIGHT
TZOFFSETFROM:-0500
TZOFFSETTO:-0400
TZNAME:EDT
DTSTART:20260308T070000
END:DAYLIGHT
BEGIN:STANDARD
TZOFFSETFROM:-0400
TZOFFSETTO:-0500
TZNAME:EST
DTSTART:20261101T060000
END:STANDARD
BEGIN:DAYLIGHT
TZOFFSETFROM:-0500
TZOFFSETTO:-0400
TZNAME:EDT
DTSTART:20270314T070000
END:DAYLIGHT
BEGIN:STANDARD
TZOFFSETFROM:-0400
TZOFFSETTO:-0500
TZNAME:EST
DTSTART:20271107T060000
END:STANDARD
END:VTIMEZONE
BEGIN:VEVENT
DTSTART;VALUE=DATE:20260304
DTEND;VALUE=DATE:20260306
DTSTAMP:20260421T095135
CREATED:20251210T144216Z
LAST-MODIFIED:20251210T144216Z
UID:1237911-1772582400-1772755199@www.defensedaily.com
SUMMARY:Joint Space Operations Summit
DESCRIPTION:The 12th Joint Space Operations Summit brings together senior leaders from across the DoD\, IC\, International Partners\, & Commercial Space Solution providers to discuss the policies and operations necessary to ensure dominance in the space domain. Attendees will have the chance to hear sessions focused on the future of space defense and how collaborations\, particularly joint partnerships\, will be key in maintaining space superiority. Leaders will discuss key topics like modernizing space-based surveillance technologies\, promoting cooperation between commercial and international partners\, and integrating resilient and responsive space capabilities.
URL:https://www.defensedaily.com/event/joint-space-operations-summit-3/
LOCATION:151 St. George\, National Harbor\, MD\, United States
ATTACH;FMTTYPE=image/png:https://www.defensedaily.com/wp-content/uploads/2025/12/dsi-march-300-x-250.png
END:VEVENT
BEGIN:VEVENT
DTSTART;VALUE=DATE:20260323
DTEND;VALUE=DATE:20260327
DTSTAMP:20260421T095135
CREATED:20251210T153151Z
LAST-MODIFIED:20260302T143718Z
UID:1237941-1774224000-1774569599@www.defensedaily.com
SUMMARY:SATELLITE X GovMilSpace
DESCRIPTION:SATShow Week is the industry’s first and largest experience of the year — uniting commercial innovators\, government and military decision-makers\, and end-users from 110+​ ​countries in Washington\, D.C. Anchored by the flagship SATELLITE event and enriched by the dedicated GovMilSpace event\, it’s where critical conversations happen and business gets done.
URL:https://www.defensedaily.com/event/satellite-x-govmilspace/
LOCATION:Walter E. Washington Convention Center\, 801 Mt Vernon Place NW 801 Allen Y. Lew Place NW\, Washington\, DC\, 20001
END:VEVENT
BEGIN:VEVENT
DTSTART;VALUE=DATE:20260324
DTEND;VALUE=DATE:20260327
DTSTAMP:20260421T095135
CREATED:20251210T160543Z
LAST-MODIFIED:20251210T160543Z
UID:1237971-1774310400-1774569599@www.defensedaily.com
SUMMARY:AUSA Global Force Symposium & Exposition
DESCRIPTION:The AUSA Global Force Symposium & Exposition is the Association of the U.S. Army’s premier three-day event dedicated to advancing the Total Army’s modernization through synergistic collaboration between military\, industry\, and academia. Anchored in the Army’s Modernization Strategy\, Global Force is a vital forum for exploring how the Army evolves to remain Agile\, Adaptive\, and Lethal in an era of multi-domain challenges.
URL:https://www.defensedaily.com/event/ausa-global-force-symposium-exposition/
LOCATION:Huntsville\, AL
END:VEVENT
END:VCALENDAR