BEGIN:VCALENDAR
VERSION:2.0
PRODID:-//Defense Daily - ECPv6.15.20//NONSGML v1.0//EN
CALSCALE:GREGORIAN
METHOD:PUBLISH
X-ORIGINAL-URL:https://www.defensedaily.com
X-WR-CALDESC:Events for Defense Daily
REFRESH-INTERVAL;VALUE=DURATION:PT1H
X-Robots-Tag:noindex
X-PUBLISHED-TTL:PT1H
BEGIN:VTIMEZONE
TZID:UTC
BEGIN:STANDARD
TZOFFSETFROM:+0000
TZOFFSETTO:+0000
TZNAME:UTC
DTSTART:20230101T000000
END:STANDARD
END:VTIMEZONE
BEGIN:VEVENT
DTSTART;VALUE=DATE:20240131
DTEND;VALUE=DATE:20240202
DTSTAMP:20260421T200732
CREATED:20231215T024819Z
LAST-MODIFIED:20231215T024819Z
UID:1160502-1706659200-1706831999@www.defensedaily.com
SUMMARY:6th Annual Military Aviation & Air Dominance Summit
DESCRIPTION:The 6th Annual Military Aviation & Air Dominance Summit is the only full spectrum defense aviation event in North America and will convene senior level experts and decision makers from across the U.S. Military Services\, DoD\, International Partners\, Acquisition Authorities\, & Industry for a Joint Service discussion on initiatives and strategies to best equip and sustain the aviation force of the future. The 2024 Summit will discuss how the Military services\, in partnership with industry\, are modernizing and enhancing military aviation platforms and systems to ensure air dominance for the future fight. 
URL:https://www.defensedaily.com/event/6th-annual-military-aviation-air-dominance-summit/
LOCATION:Jackson Center\, Huntsville\, AL
ATTACH;FMTTYPE=image/png:https://www.defensedaily.com/wp-content/uploads/2023/12/aviationdominancecom.png
END:VEVENT
END:VCALENDAR