BEGIN:VCALENDAR
VERSION:2.0
PRODID:-//Defense Daily - ECPv6.15.20//NONSGML v1.0//EN
CALSCALE:GREGORIAN
METHOD:PUBLISH
X-WR-CALNAME:Defense Daily
X-ORIGINAL-URL:https://www.defensedaily.com
X-WR-CALDESC:Events for Defense Daily
REFRESH-INTERVAL;VALUE=DURATION:PT1H
X-Robots-Tag:noindex
X-PUBLISHED-TTL:PT1H
BEGIN:VTIMEZONE
TZID:UTC
BEGIN:STANDARD
TZOFFSETFROM:+0000
TZOFFSETTO:+0000
TZNAME:UTC
DTSTART:20210101T000000
END:STANDARD
END:VTIMEZONE
BEGIN:VEVENT
DTSTART;VALUE=DATE:20220727
DTEND;VALUE=DATE:20220729
DTSTAMP:20260419T220915
CREATED:20220525T222042Z
LAST-MODIFIED:20220525T222042Z
UID:1109379-1658880000-1659052799@www.defensedaily.com
SUMMARY:Digital Forensics for National Security
DESCRIPTION:DSI’s 3rd Annual Digital Forensics for National Security Symposium will once again bring together members of the Federal Government\, DoD\, US Military Services\, Industry\, & Academia to examine how advances in Digital Forensics\, sometimes called ‘Computer Forensics’\, are advancing investigative capabilities when examining electronic crimes\, attacks\, and intrusions at the national\, state\, and local levels. Senior level leaders will discuss how these forensic software tools\, training\, & technologies are helping to identify\, maintain\, & analyze digital evidence in a more efficient manner to help neutralize threats to national security
URL:https://www.defensedaily.com/event/digital-forensics-for-national-security/
LOCATION:National  Harbor\, MD
END:VEVENT
END:VCALENDAR