BEGIN:VCALENDAR
VERSION:2.0
PRODID:-//Defense Daily - ECPv6.15.20//NONSGML v1.0//EN
CALSCALE:GREGORIAN
METHOD:PUBLISH
X-WR-CALNAME:Defense Daily
X-ORIGINAL-URL:https://www.defensedaily.com
X-WR-CALDESC:Events for Defense Daily
REFRESH-INTERVAL;VALUE=DURATION:PT1H
X-Robots-Tag:noindex
X-PUBLISHED-TTL:PT1H
BEGIN:VTIMEZONE
TZID:America/New_York
BEGIN:DAYLIGHT
TZOFFSETFROM:-0500
TZOFFSETTO:-0400
TZNAME:EDT
DTSTART:20250309T070000
END:DAYLIGHT
BEGIN:STANDARD
TZOFFSETFROM:-0400
TZOFFSETTO:-0500
TZNAME:EST
DTSTART:20251102T060000
END:STANDARD
BEGIN:DAYLIGHT
TZOFFSETFROM:-0500
TZOFFSETTO:-0400
TZNAME:EDT
DTSTART:20260308T070000
END:DAYLIGHT
BEGIN:STANDARD
TZOFFSETFROM:-0400
TZOFFSETTO:-0500
TZNAME:EST
DTSTART:20261101T060000
END:STANDARD
BEGIN:DAYLIGHT
TZOFFSETFROM:-0500
TZOFFSETTO:-0400
TZNAME:EDT
DTSTART:20270314T070000
END:DAYLIGHT
BEGIN:STANDARD
TZOFFSETFROM:-0400
TZOFFSETTO:-0500
TZNAME:EST
DTSTART:20271107T060000
END:STANDARD
END:VTIMEZONE
BEGIN:VEVENT
DTSTART;VALUE=DATE:20260422
DTEND;VALUE=DATE:20260424
DTSTAMP:20260423T013854
CREATED:20251210T151204Z
LAST-MODIFIED:20251210T151204Z
UID:1237936-1776816000-1776988799@www.defensedaily.com
SUMMARY:National Conference on CFIUS
DESCRIPTION:The National Forum on CFIUS is the leading event for professionals navigating the complexities of foreign investment and national security.\n\nAs the Committee on Foreign Investment in the United States (CFIUS) continues to expand its oversight and enforce compliance\, it is crucial for legal\, compliance\, and business leaders to stay ahead of the latest developments. This premier conference provides in-depth discussions on the evolving CFIUS landscape\, including filing requirements\, risk mitigation strategies\, and the impact of new regulations. Attendees will gain exclusive insights from government officials\, industry experts\, and key stakeholders on how to manage cross-border transactions while safeguarding national security interests.\n\nDon’t miss this opportunity to network with thought leaders and equip yourself with the tools needed to navigate CFIUS reviews and mitigate potential risks in an increasingly regulated environment.\n\nTo view this year’s agenda and to learn more\, visit the conference website: https://bit.ly/43DvUt0
URL:https://www.defensedaily.com/event/national-conference-on-cfius/
LOCATION:Washington\, DC
ATTACH;FMTTYPE=image/png:https://www.defensedaily.com/wp-content/uploads/2025/12/858l26-partner-defense-daily-website-300x250-003.png
END:VEVENT
END:VCALENDAR