BEGIN:VCALENDAR
VERSION:2.0
PRODID:-//Defense Daily - ECPv6.15.20//NONSGML v1.0//EN
CALSCALE:GREGORIAN
METHOD:PUBLISH
X-ORIGINAL-URL:https://www.defensedaily.com
X-WR-CALDESC:Events for Defense Daily
REFRESH-INTERVAL;VALUE=DURATION:PT1H
X-Robots-Tag:noindex
X-PUBLISHED-TTL:PT1H
BEGIN:VTIMEZONE
TZID:UTC
BEGIN:STANDARD
TZOFFSETFROM:+0000
TZOFFSETTO:+0000
TZNAME:UTC
DTSTART:20220101T000000
END:STANDARD
END:VTIMEZONE
BEGIN:VEVENT
DTSTART;VALUE=DATE:20231129
DTEND;VALUE=DATE:20231201
DTSTAMP:20260422T055154
CREATED:20230906T011730Z
LAST-MODIFIED:20230906T011730Z
UID:1151023-1701216000-1701388799@www.defensedaily.com
SUMMARY:Military Vehicle Systems Summit
DESCRIPTION:DSI’s 3rd Military Vehicle Systems Summit will focus on current efforts and future initiatives to modernize military vehicles and vehicle systems. The 2023 Summit will explore efforts to maximize the durability\, sustainability\, survivability and lethality of U.S. Military combat and tactical vehicles.\n\n \n\n\n\n\n \n\n 
URL:https://www.defensedaily.com/event/military-vehicle-systems-summit-3/
LOCATION:Sunset Room\, National Harbor\, MD
ATTACH;FMTTYPE=image/png:https://www.defensedaily.com/wp-content/uploads/2023/09/dsi-veh-ad-300x250-1.png
END:VEVENT
END:VCALENDAR