BEGIN:VCALENDAR
VERSION:2.0
PRODID:-//Defense Daily - ECPv6.15.20//NONSGML v1.0//EN
CALSCALE:GREGORIAN
METHOD:PUBLISH
X-ORIGINAL-URL:https://www.defensedaily.com
X-WR-CALDESC:Events for Defense Daily
REFRESH-INTERVAL;VALUE=DURATION:PT1H
X-Robots-Tag:noindex
X-PUBLISHED-TTL:PT1H
BEGIN:VTIMEZONE
TZID:UTC
BEGIN:STANDARD
TZOFFSETFROM:+0000
TZOFFSETTO:+0000
TZNAME:UTC
DTSTART:20210101T000000
END:STANDARD
END:VTIMEZONE
BEGIN:VEVENT
DTSTART;VALUE=DATE:20221102
DTEND;VALUE=DATE:20221104
DTSTAMP:20260419T212647
CREATED:20220823T010830Z
LAST-MODIFIED:20220823T010830Z
UID:1117251-1667347200-1667519999@www.defensedaily.com
SUMMARY:GEOINT Innovation Summit
DESCRIPTION:DSI’s 5th GEOINT Innovation Summit will bring together members of the intelligence community\, DOD\, federal government\, academia\, and industry to discuss ways to accelerate innovation to fuel the GEOINT revolution.  In an era of strategic competition\, this event will explore how geospatial intelligence has become increasingly vital to delivering the intelligence advantage to decision-makers\, warfighters\, and intelligence leaders across the military and government.
URL:https://www.defensedaily.com/event/geoint-innovation-summit/
LOCATION:Alexandria\, VA
END:VEVENT
END:VCALENDAR