BEGIN:VCALENDAR
VERSION:2.0
PRODID:-//Defense Daily - ECPv6.15.20//NONSGML v1.0//EN
CALSCALE:GREGORIAN
METHOD:PUBLISH
X-WR-CALNAME:Defense Daily
X-ORIGINAL-URL:https://www.defensedaily.com
X-WR-CALDESC:Events for Defense Daily
REFRESH-INTERVAL;VALUE=DURATION:PT1H
X-Robots-Tag:noindex
X-PUBLISHED-TTL:PT1H
BEGIN:VTIMEZONE
TZID:UTC
BEGIN:STANDARD
TZOFFSETFROM:+0000
TZOFFSETTO:+0000
TZNAME:UTC
DTSTART:20210101T000000
END:STANDARD
END:VTIMEZONE
BEGIN:VEVENT
DTSTART;VALUE=DATE:20220928
DTEND;VALUE=DATE:20220930
DTSTAMP:20260423T034824
CREATED:20220628T003657Z
LAST-MODIFIED:20220803T001445Z
UID:1112171-1664323200-1664495999@www.defensedaily.com
SUMMARY:Hypersonic Weapons Summit
DESCRIPTION:Hypersonic weapons development in the US has seen significant growth. The US has actively pursued the development of hypersonic weapons as since the early 2000s. In recent years\, the US has focused such efforts on hypersonic glide vehicles and hypersonic cruise missiles with shorter and intermediate ranges for use in regional conflicts. \nAlthough funding for these programs has been relatively restrained in the past\, both the Pentagon and Congress have shown a massive interest in pursuing the development and near-term deployment of hypersonic systems through almost $4 billion in federal funding for 2022. This is due to the growing interest in these technologies in Russia and China\, leading to a heightened focus in the United States on the strategic threat posed by hypersonic flight. \nWith recent successful tests\, the path to hypersonic deployment seems closer than ever for the United States. However\, there are many technological and operational decisions to be made before fielding operational weapons. Meeting the pace at which the Services wants to test and field a hypersonic offensive capability will be a challenge\, but doing so is critical to the National Defense Strategy of the United States Military.  Our conference provides an opportunity for stakeholders from across the the DoD\, academia and industry to get together for two days of networking\, information sharing\, thought leadership and problem solving to better achieve the goals of the US in hypersonics. \n\n\n\n\n \n\n \n\n 
URL:https://www.defensedaily.com/event/hypersonic-weapons-summit/
LOCATION:Washington\, DC
END:VEVENT
BEGIN:VEVENT
DTSTART;VALUE=DATE:20220928
DTEND;VALUE=DATE:20220930
DTSTAMP:20260423T034824
CREATED:20220802T234929Z
LAST-MODIFIED:20220802T234929Z
UID:1115613-1664323200-1664495999@www.defensedaily.com
SUMMARY:Critical Infrastructure Security Summit
DESCRIPTION:The 2nd Annual Critical Infrastructure Security Summit will focus on defending and creating resilient systems to protect our nation’s vital infrastructure from outside threats and other dangers. The interconnectivity and advanced capabilities that digital systems have provided to our nation’s infrastructure systems also poses an avenue of approach for America’s enemies to cripple US production and economic power without having to fire a shot.
URL:https://www.defensedaily.com/event/critical-infrastructure-security-summit-2/
LOCATION:Washington\, DC
END:VEVENT
END:VCALENDAR