BEGIN:VCALENDAR
VERSION:2.0
PRODID:-//Defense Daily - ECPv6.15.20//NONSGML v1.0//EN
CALSCALE:GREGORIAN
METHOD:PUBLISH
X-ORIGINAL-URL:https://www.defensedaily.com
X-WR-CALDESC:Events for Defense Daily
REFRESH-INTERVAL;VALUE=DURATION:PT1H
X-Robots-Tag:noindex
X-PUBLISHED-TTL:PT1H
BEGIN:VTIMEZONE
TZID:UTC
BEGIN:STANDARD
TZOFFSETFROM:+0000
TZOFFSETTO:+0000
TZNAME:UTC
DTSTART:20210101T000000
END:STANDARD
END:VTIMEZONE
BEGIN:VEVENT
DTSTART;VALUE=DATE:20220907
DTEND;VALUE=DATE:20220910
DTSTAMP:20260420T132457
CREATED:20220728T231513Z
LAST-MODIFIED:20220729T000035Z
UID:1115044-1662508800-1662767999@www.defensedaily.com
SUMMARY:Billington CyberSecurity Summit
DESCRIPTION:Register today for the 13th Annual Billington Cybersecurity Summit on September 7–9\, 2022\, at the Washington Convention Center in Washington\, D.C.\n\nThe world’s leading government summit on cybersecurity will continue its unique educational mission of convening the who’s who in cybersecurity: the senior leadership from the U.S. government\, our allied partners\, and their industry and academic partners.\n\nGiven the fast moving strategic direction that the Biden Administration has generated over the past year\, this event will take a holistic view of the cybersecurity business with a hearty dose of topics covering Zero Trust\, proactive cyber defense measures\, partnership building\, offensive cyber\, and a continued look at what the future will bring to the cybersecurity mission.
URL:https://www.defensedaily.com/event/billington-cybersecurity-summit/
LOCATION:Washington\, DC
END:VEVENT
END:VCALENDAR